BEGIN:VCALENDAR
VERSION:2.0
PRODID:-//Anne Tormela - ECPv6.6.2//NONSGML v1.0//EN
CALSCALE:GREGORIAN
METHOD:PUBLISH
X-WR-CALNAME:Anne Tormela
X-ORIGINAL-URL:https://tormela.com
X-WR-CALDESC:Events for Anne Tormela
REFRESH-INTERVAL;VALUE=DURATION:PT1H
X-Robots-Tag:noindex
X-PUBLISHED-TTL:PT1H
BEGIN:VTIMEZONE
TZID:America/New_York
BEGIN:DAYLIGHT
TZOFFSETFROM:-0500
TZOFFSETTO:-0400
TZNAME:EDT
DTSTART:20240310T070000
END:DAYLIGHT
BEGIN:STANDARD
TZOFFSETFROM:-0400
TZOFFSETTO:-0500
TZNAME:EST
DTSTART:20241103T060000
END:STANDARD
END:VTIMEZONE
BEGIN:VEVENT
DTSTART;TZID=America/New_York:20240211T150000
DTEND;TZID=America/New_York:20240211T170000
DTSTAMP:20260421T004705
CREATED:20240130T215708Z
LAST-MODIFIED:20240130T220054Z
UID:3537-1707663600-1707670800@tormela.com
SUMMARY:Sarasota Pops Orchestra- I Love You to the Moon and Back! February 11th and 12th\, 2024
DESCRIPTION:SUNDAY\, FEBRUARY 11\, 2024\, 3 PM\nRiverview Performing Arts Center\, Sarasota \nMONDAY\, FEBRUARY 12\, 2024\, 7:30 PM\nSCF Neel Performing Arts Center\, Bradenton \n\n\n\n\nI Love You to the Moon and Back\n\n\n\n\nCapturing all your favorite earth\, moon\, stars\, sky\, and night themed love songs from Broadway\, opera\, and beyond\, Anne Tormela and Nick Palance team with the Pops for this extra special Valentines show. Fly me to the moon\, but don’t rain on my parade. I feel the earth move with the music of the night. Do you see the blue skies over moon river? Is that Stella by starlight or a piece of sky? Fall in love with your favorites all over again during this uniquely crafted production. That’s amore!
URL:https://tormela.com/event/sarasota-pops-orchestra-i-love-you-to-the-moon-and-back/
END:VEVENT
END:VCALENDAR